BEGIN:VCALENDAR
VERSION:2.0
PRODID:-//Samaritains - Section d&#039;Ecublens - ECPv6.15.20//NONSGML v1.0//EN
CALSCALE:GREGORIAN
METHOD:PUBLISH
X-ORIGINAL-URL:https://samaritains-ecublens.ch
X-WR-CALDESC:Évènements pour Samaritains - Section d&#039;Ecublens
REFRESH-INTERVAL;VALUE=DURATION:PT1H
X-Robots-Tag:noindex
X-PUBLISHED-TTL:PT1H
BEGIN:VTIMEZONE
TZID:Europe/Zurich
BEGIN:DAYLIGHT
TZOFFSETFROM:+0100
TZOFFSETTO:+0200
TZNAME:CEST
DTSTART:20240331T010000
END:DAYLIGHT
BEGIN:STANDARD
TZOFFSETFROM:+0200
TZOFFSETTO:+0100
TZNAME:CET
DTSTART:20241027T010000
END:STANDARD
BEGIN:DAYLIGHT
TZOFFSETFROM:+0100
TZOFFSETTO:+0200
TZNAME:CEST
DTSTART:20250330T010000
END:DAYLIGHT
BEGIN:STANDARD
TZOFFSETFROM:+0200
TZOFFSETTO:+0100
TZNAME:CET
DTSTART:20251026T010000
END:STANDARD
BEGIN:DAYLIGHT
TZOFFSETFROM:+0100
TZOFFSETTO:+0200
TZNAME:CEST
DTSTART:20260329T010000
END:DAYLIGHT
BEGIN:STANDARD
TZOFFSETFROM:+0200
TZOFFSETTO:+0100
TZNAME:CET
DTSTART:20261025T010000
END:STANDARD
END:VTIMEZONE
BEGIN:VEVENT
DTSTART;TZID=Europe/Zurich:20250819T153000
DTEND;TZID=Europe/Zurich:20250819T193000
DTSTAMP:20260421T122715
CREATED:20250108T062908Z
LAST-MODIFIED:20250108T062913Z
UID:17041-1755617400-1755631800@samaritains-ecublens.ch
SUMMARY:Don du sang
DESCRIPTION:Inscription
URL:https://samaritains-ecublens.ch/agenda/don-du-sang-9/
LOCATION:Grande salle du Motty\, Grande salle du Motty Place du Motty 4\, 1024 Ecublens\, Suisse
ATTACH;FMTTYPE=image/webp:https://samaritains-ecublens.ch/wp-content/uploads/2023/05/don-du-sang-TITRE-870x600-1.webp
END:VEVENT
BEGIN:VEVENT
DTSTART;TZID=Europe/Zurich:20250823T080000
DTEND;TZID=Europe/Zurich:20250823T143000
DTSTAMP:20260421T122716
CREATED:20241217T151934Z
LAST-MODIFIED:20241219T065054Z
UID:16931-1755936000-1755959400@samaritains-ecublens.ch
SUMMARY:Urgence chez les enfants 0 à 4 ans (UCE)
DESCRIPTION:Inscription
URL:https://samaritains-ecublens.ch/agenda/urgence-chez-les-enfants-0-a-4-ans-uce-3/
LOCATION:Local section d’Ecublens\, Samaritains - Section d'Ecublens\, Ch. de la Forêt 14C\, 1024 Ecublens\, Suisse
ATTACH;FMTTYPE=image/jpeg:https://samaritains-ecublens.ch/wp-content/uploads/2024/12/UCE.jpg
END:VEVENT
END:VCALENDAR