BEGIN:VCALENDAR
VERSION:2.0
PRODID:-//Samaritains - Section d&#039;Ecublens - ECPv6.15.20//NONSGML v1.0//EN
CALSCALE:GREGORIAN
METHOD:PUBLISH
X-ORIGINAL-URL:https://samaritains-ecublens.ch
X-WR-CALDESC:Évènements pour Samaritains - Section d&#039;Ecublens
REFRESH-INTERVAL;VALUE=DURATION:PT1H
X-Robots-Tag:noindex
X-PUBLISHED-TTL:PT1H
BEGIN:VTIMEZONE
TZID:Europe/Zurich
BEGIN:DAYLIGHT
TZOFFSETFROM:+0100
TZOFFSETTO:+0200
TZNAME:CEST
DTSTART:20240331T010000
END:DAYLIGHT
BEGIN:STANDARD
TZOFFSETFROM:+0200
TZOFFSETTO:+0100
TZNAME:CET
DTSTART:20241027T010000
END:STANDARD
BEGIN:DAYLIGHT
TZOFFSETFROM:+0100
TZOFFSETTO:+0200
TZNAME:CEST
DTSTART:20250330T010000
END:DAYLIGHT
BEGIN:STANDARD
TZOFFSETFROM:+0200
TZOFFSETTO:+0100
TZNAME:CET
DTSTART:20251026T010000
END:STANDARD
BEGIN:DAYLIGHT
TZOFFSETFROM:+0100
TZOFFSETTO:+0200
TZNAME:CEST
DTSTART:20260329T010000
END:DAYLIGHT
BEGIN:STANDARD
TZOFFSETFROM:+0200
TZOFFSETTO:+0100
TZNAME:CET
DTSTART:20261025T010000
END:STANDARD
END:VTIMEZONE
BEGIN:VEVENT
DTSTART;TZID=Europe/Zurich:20250402T200000
DTEND;TZID=Europe/Zurich:20250402T220000
DTSTAMP:20260421T192519
CREATED:20250103T094200Z
LAST-MODIFIED:20250107T161106Z
UID:17004-1743624000-1743631200@samaritains-ecublens.ch
SUMMARY:Exercice de section n°4
DESCRIPTION:Schéma XABCDE\, Body check\, 1er bilan \n\n\n\n\n\n\n\n\nInscription à l’exercice
URL:https://samaritains-ecublens.ch/agenda/exercice-de-section-n4-2/
LOCATION:Local section d’Ecublens\, Samaritains - Section d'Ecublens\, Ch. de la Forêt 14C\, 1024 Ecublens\, Suisse
ATTACH;FMTTYPE=image/png:https://samaritains-ecublens.ch/wp-content/uploads/2018/05/9C410A3E-1545-4809-8DDF-4BFD81C71EC0-e1525206890613.png
END:VEVENT
BEGIN:VEVENT
DTSTART;TZID=Europe/Zurich:20250426T080000
DTEND;TZID=Europe/Zurich:20250426T143000
DTSTAMP:20260421T192519
CREATED:20241211T214626Z
LAST-MODIFIED:20241219T064743Z
UID:16920-1745654400-1745677800@samaritains-ecublens.ch
SUMMARY:Urgence chez les enfants 0 à 4 ans (UCE)
DESCRIPTION:Inscription
URL:https://samaritains-ecublens.ch/agenda/urgence-chez-les-enfants-0-a-4-ans-uce/
LOCATION:Local section d’Ecublens\, Samaritains - Section d'Ecublens\, Ch. de la Forêt 14C\, 1024 Ecublens\, Suisse
ATTACH;FMTTYPE=image/jpeg:https://samaritains-ecublens.ch/wp-content/uploads/2024/12/UCE.jpg
END:VEVENT
END:VCALENDAR