BEGIN:VCALENDAR
VERSION:2.0
PRODID:-//Samaritains - Section d&#039;Ecublens - ECPv6.15.20//NONSGML v1.0//EN
CALSCALE:GREGORIAN
METHOD:PUBLISH
X-ORIGINAL-URL:https://samaritains-ecublens.ch
X-WR-CALDESC:Évènements pour Samaritains - Section d&#039;Ecublens
REFRESH-INTERVAL;VALUE=DURATION:PT1H
X-Robots-Tag:noindex
X-PUBLISHED-TTL:PT1H
BEGIN:VTIMEZONE
TZID:Europe/Zurich
BEGIN:DAYLIGHT
TZOFFSETFROM:+0100
TZOFFSETTO:+0200
TZNAME:CEST
DTSTART:20240331T010000
END:DAYLIGHT
BEGIN:STANDARD
TZOFFSETFROM:+0200
TZOFFSETTO:+0100
TZNAME:CET
DTSTART:20241027T010000
END:STANDARD
BEGIN:DAYLIGHT
TZOFFSETFROM:+0100
TZOFFSETTO:+0200
TZNAME:CEST
DTSTART:20250330T010000
END:DAYLIGHT
BEGIN:STANDARD
TZOFFSETFROM:+0200
TZOFFSETTO:+0100
TZNAME:CET
DTSTART:20251026T010000
END:STANDARD
BEGIN:DAYLIGHT
TZOFFSETFROM:+0100
TZOFFSETTO:+0200
TZNAME:CEST
DTSTART:20260329T010000
END:DAYLIGHT
BEGIN:STANDARD
TZOFFSETFROM:+0200
TZOFFSETTO:+0100
TZNAME:CET
DTSTART:20261025T010000
END:STANDARD
END:VTIMEZONE
BEGIN:VEVENT
DTSTART;TZID=Europe/Zurich:20250212T200000
DTEND;TZID=Europe/Zurich:20250212T220000
DTSTAMP:20260421T230403
CREATED:20250102T184746Z
LAST-MODIFIED:20250107T160946Z
UID:16997-1739390400-1739397600@samaritains-ecublens.ch
SUMMARY:Exercice de section n°2
DESCRIPTION:Blessures et douleurs (musculaire\, articulaire) du au sport (RICE) \n\n\n\n\n\n\n\n\nInscription à l’exercice
URL:https://samaritains-ecublens.ch/agenda/exercice-de-section-n2-3/
LOCATION:Local section d’Ecublens\, Samaritains - Section d'Ecublens\, Ch. de la Forêt 14C\, 1024 Ecublens\, Suisse
ATTACH;FMTTYPE=image/png:https://samaritains-ecublens.ch/wp-content/uploads/2018/05/9C410A3E-1545-4809-8DDF-4BFD81C71EC0-e1525206890613.png
END:VEVENT
BEGIN:VEVENT
DTSTART;TZID=Europe/Zurich:20250215T081500
DTEND;TZID=Europe/Zurich:20250215T161500
DTSTAMP:20260421T230403
CREATED:20241211T164016Z
LAST-MODIFIED:20241211T164018Z
UID:16877-1739607300-1739636100@samaritains-ecublens.ch
SUMMARY:Secouriste niveau 1 IAS (partie 1)
DESCRIPTION:Inscription
URL:https://samaritains-ecublens.ch/agenda/secouriste-niveau-1-ias-partie-1-7/
LOCATION:Local section d’Ecublens\, Samaritains - Section d'Ecublens\, Ch. de la Forêt 14C\, 1024 Ecublens\, Suisse
ATTACH;FMTTYPE=image/png:https://samaritains-ecublens.ch/wp-content/uploads/2023/08/Badge_Level1-1-e1693418228221.png
END:VEVENT
BEGIN:VEVENT
DTSTART;TZID=Europe/Zurich:20250222T081500
DTEND;TZID=Europe/Zurich:20250222T161500
DTSTAMP:20260421T230403
CREATED:20241211T164730Z
LAST-MODIFIED:20241211T164733Z
UID:16879-1740212100-1740240900@samaritains-ecublens.ch
SUMMARY:Secouriste niveau 1 IAS (partie 2)
DESCRIPTION:Inscription
URL:https://samaritains-ecublens.ch/agenda/secouriste-niveau-1-ias-partie-2-6/
LOCATION:Local section d’Ecublens\, Samaritains - Section d'Ecublens\, Ch. de la Forêt 14C\, 1024 Ecublens\, Suisse
ATTACH;FMTTYPE=image/png:https://samaritains-ecublens.ch/wp-content/uploads/2023/08/Badge_Level1-1-e1693418228221.png
END:VEVENT
END:VCALENDAR