BEGIN:VCALENDAR
VERSION:2.0
PRODID:-//Samaritains - Section d&#039;Ecublens - ECPv6.15.20//NONSGML v1.0//EN
CALSCALE:GREGORIAN
METHOD:PUBLISH
X-ORIGINAL-URL:https://samaritains-ecublens.ch
X-WR-CALDESC:Évènements pour Samaritains - Section d&#039;Ecublens
REFRESH-INTERVAL;VALUE=DURATION:PT1H
X-Robots-Tag:noindex
X-PUBLISHED-TTL:PT1H
BEGIN:VTIMEZONE
TZID:Europe/Zurich
BEGIN:DAYLIGHT
TZOFFSETFROM:+0100
TZOFFSETTO:+0200
TZNAME:CEST
DTSTART:20230326T010000
END:DAYLIGHT
BEGIN:STANDARD
TZOFFSETFROM:+0200
TZOFFSETTO:+0100
TZNAME:CET
DTSTART:20231029T010000
END:STANDARD
BEGIN:DAYLIGHT
TZOFFSETFROM:+0100
TZOFFSETTO:+0200
TZNAME:CEST
DTSTART:20240331T010000
END:DAYLIGHT
BEGIN:STANDARD
TZOFFSETFROM:+0200
TZOFFSETTO:+0100
TZNAME:CET
DTSTART:20241027T010000
END:STANDARD
BEGIN:DAYLIGHT
TZOFFSETFROM:+0100
TZOFFSETTO:+0200
TZNAME:CEST
DTSTART:20250330T010000
END:DAYLIGHT
BEGIN:STANDARD
TZOFFSETFROM:+0200
TZOFFSETTO:+0100
TZNAME:CET
DTSTART:20251026T010000
END:STANDARD
END:VTIMEZONE
BEGIN:VEVENT
DTSTART;TZID=Europe/Zurich:20240810T080000
DTEND;TZID=Europe/Zurich:20240810T120000
DTSTAMP:20260424T140609
CREATED:20240508T145218Z
LAST-MODIFIED:20240713T145238Z
UID:16383-1723276800-1723291200@samaritains-ecublens.ch
SUMMARY:BLS-AED
DESCRIPTION:Inscription
URL:https://samaritains-ecublens.ch/agenda/bls-aed/
LOCATION:Local section d’Ecublens\, Samaritains - Section d'Ecublens\, Ch. de la Forêt 14C\, 1024 Ecublens\, Suisse
ATTACH;FMTTYPE=image/jpeg:https://samaritains-ecublens.ch/wp-content/uploads/2024/07/BLS-AES-SRC.jpg
END:VEVENT
BEGIN:VEVENT
DTSTART;TZID=Europe/Zurich:20240815T080000
DTEND;TZID=Europe/Zurich:20240815T130000
DTSTAMP:20260424T140609
CREATED:20240508T145950Z
LAST-MODIFIED:20240508T145953Z
UID:16387-1723708800-1723726800@samaritains-ecublens.ch
SUMMARY:Premier secours "permis" (partie 1)
DESCRIPTION:Inscription
URL:https://samaritains-ecublens.ch/agenda/premier-secours-permis-partie-1/
LOCATION:Local section d’Ecublens\, Samaritains - Section d'Ecublens\, Ch. de la Forêt 14C\, 1024 Ecublens\, Suisse
END:VEVENT
BEGIN:VEVENT
DTSTART;TZID=Europe/Zurich:20240816T080000
DTEND;TZID=Europe/Zurich:20240816T130000
DTSTAMP:20260424T140609
CREATED:20240508T150303Z
LAST-MODIFIED:20240508T150305Z
UID:16389-1723795200-1723813200@samaritains-ecublens.ch
SUMMARY:Premier secours "permis" (partie 2)
DESCRIPTION:Inscription
URL:https://samaritains-ecublens.ch/agenda/premier-secours-permis-partie-2-2/
LOCATION:Local section d’Ecublens\, Samaritains - Section d'Ecublens\, Ch. de la Forêt 14C\, 1024 Ecublens\, Suisse
END:VEVENT
BEGIN:VEVENT
DTSTART;TZID=Europe/Zurich:20240819T160000
DTEND;TZID=Europe/Zurich:20240819T193000
DTSTAMP:20260424T140609
CREATED:20231015T090242Z
LAST-MODIFIED:20231101T200618Z
UID:15727-1724083200-1724095800@samaritains-ecublens.ch
SUMMARY:Don du sang
DESCRIPTION:Inscription
URL:https://samaritains-ecublens.ch/agenda/don-du-sang-4/
LOCATION:Grande salle du Motty\, Grande salle du Motty Place du Motty 4\, 1024 Ecublens\, Suisse
CATEGORIES:Don du sang
ATTACH;FMTTYPE=image/webp:https://samaritains-ecublens.ch/wp-content/uploads/2023/05/don-du-sang-TITRE-870x600-1.webp
END:VEVENT
END:VCALENDAR