BEGIN:VCALENDAR
VERSION:2.0
PRODID:-//Samaritains - Section d&#039;Ecublens - ECPv6.15.20//NONSGML v1.0//EN
CALSCALE:GREGORIAN
METHOD:PUBLISH
X-WR-CALNAME:Samaritains - Section d&#039;Ecublens
X-ORIGINAL-URL:https://samaritains-ecublens.ch
X-WR-CALDESC:Évènements pour Samaritains - Section d&#039;Ecublens
REFRESH-INTERVAL;VALUE=DURATION:PT1H
X-Robots-Tag:noindex
X-PUBLISHED-TTL:PT1H
BEGIN:VTIMEZONE
TZID:Europe/Zurich
BEGIN:DAYLIGHT
TZOFFSETFROM:+0100
TZOFFSETTO:+0200
TZNAME:CEST
DTSTART:20230326T010000
END:DAYLIGHT
BEGIN:STANDARD
TZOFFSETFROM:+0200
TZOFFSETTO:+0100
TZNAME:CET
DTSTART:20231029T010000
END:STANDARD
BEGIN:DAYLIGHT
TZOFFSETFROM:+0100
TZOFFSETTO:+0200
TZNAME:CEST
DTSTART:20240331T010000
END:DAYLIGHT
BEGIN:STANDARD
TZOFFSETFROM:+0200
TZOFFSETTO:+0100
TZNAME:CET
DTSTART:20241027T010000
END:STANDARD
BEGIN:DAYLIGHT
TZOFFSETFROM:+0100
TZOFFSETTO:+0200
TZNAME:CEST
DTSTART:20250330T010000
END:DAYLIGHT
BEGIN:STANDARD
TZOFFSETFROM:+0200
TZOFFSETTO:+0100
TZNAME:CET
DTSTART:20251026T010000
END:STANDARD
END:VTIMEZONE
BEGIN:VEVENT
DTSTART;TZID=Europe/Zurich:20240601T080000
DTEND;TZID=Europe/Zurich:20240601T163000
DTSTAMP:20260424T181507
CREATED:20231108T200154Z
LAST-MODIFIED:20231108T200505Z
UID:15916-1717228800-1717259400@samaritains-ecublens.ch
SUMMARY:Secouriste niveau 1 IAS (partie 1)
DESCRIPTION:Inscription
URL:https://samaritains-ecublens.ch/agenda/secouriste-niveau-1-ias-partie-1-5/
LOCATION:Local Samaritains\, Samaritains - Section d'Ecublens\, Route du Bois 6\, 1024 Ecublens\, Suisse
CATEGORIES:Cours secouriste niveau 1 IAS
ATTACH;FMTTYPE=image/png:https://samaritains-ecublens.ch/wp-content/uploads/2023/08/Badge_Level1-1-e1693418228221.png
END:VEVENT
BEGIN:VEVENT
DTSTART;TZID=Europe/Zurich:20240608T080000
DTEND;TZID=Europe/Zurich:20240608T163000
DTSTAMP:20260424T181507
CREATED:20231108T200932Z
LAST-MODIFIED:20231108T201126Z
UID:15920-1717833600-1717864200@samaritains-ecublens.ch
SUMMARY:Secouriste niveau 1 IAS (partie 2)
DESCRIPTION:Inscription
URL:https://samaritains-ecublens.ch/agenda/secouriste-niveau-1-ias-partie-2-5/
LOCATION:Local Samaritains\, Samaritains - Section d'Ecublens\, Route du Bois 6\, 1024 Ecublens\, Suisse
CATEGORIES:Cours secouriste niveau 1 IAS
ATTACH;FMTTYPE=image/png:https://samaritains-ecublens.ch/wp-content/uploads/2023/08/Badge_Level1-1-e1693418228221.png
END:VEVENT
BEGIN:VEVENT
DTSTART;TZID=Europe/Zurich:20240629T080000
DTEND;TZID=Europe/Zurich:20240629T120000
DTSTAMP:20260424T181507
CREATED:20240508T143037Z
LAST-MODIFIED:20240508T144341Z
UID:16369-1719648000-1719662400@samaritains-ecublens.ch
SUMMARY:BLD-AED
DESCRIPTION:Inscription
URL:https://samaritains-ecublens.ch/agenda/bld-aed/
LOCATION:Local section d’Ecublens\, Samaritains - Section d'Ecublens\, Ch. de la Forêt 14C\, 1024 Ecublens\, Suisse
CATEGORIES:BLS-AED,La section
END:VEVENT
END:VCALENDAR