BEGIN:VCALENDAR
VERSION:2.0
PRODID:-//Samaritains - Section d&#039;Ecublens - ECPv6.15.20//NONSGML v1.0//EN
CALSCALE:GREGORIAN
METHOD:PUBLISH
X-ORIGINAL-URL:https://samaritains-ecublens.ch
X-WR-CALDESC:Évènements pour Samaritains - Section d&#039;Ecublens
REFRESH-INTERVAL;VALUE=DURATION:PT1H
X-Robots-Tag:noindex
X-PUBLISHED-TTL:PT1H
BEGIN:VTIMEZONE
TZID:Europe/Zurich
BEGIN:DAYLIGHT
TZOFFSETFROM:+0100
TZOFFSETTO:+0200
TZNAME:CEST
DTSTART:20230326T010000
END:DAYLIGHT
BEGIN:STANDARD
TZOFFSETFROM:+0200
TZOFFSETTO:+0100
TZNAME:CET
DTSTART:20231029T010000
END:STANDARD
BEGIN:DAYLIGHT
TZOFFSETFROM:+0100
TZOFFSETTO:+0200
TZNAME:CEST
DTSTART:20240331T010000
END:DAYLIGHT
BEGIN:STANDARD
TZOFFSETFROM:+0200
TZOFFSETTO:+0100
TZNAME:CET
DTSTART:20241027T010000
END:STANDARD
BEGIN:DAYLIGHT
TZOFFSETFROM:+0100
TZOFFSETTO:+0200
TZNAME:CEST
DTSTART:20250330T010000
END:DAYLIGHT
BEGIN:STANDARD
TZOFFSETFROM:+0200
TZOFFSETTO:+0100
TZNAME:CET
DTSTART:20251026T010000
END:STANDARD
END:VTIMEZONE
BEGIN:VEVENT
DTSTART;TZID=Europe/Zurich:20240302T080000
DTEND;TZID=Europe/Zurich:20240302T163000
DTSTAMP:20260424T231004
CREATED:20231108T193651Z
LAST-MODIFIED:20231108T195441Z
UID:15907-1709366400-1709397000@samaritains-ecublens.ch
SUMMARY:Secouriste niveau 2 IAS (partie 2)
DESCRIPTION:Inscription
URL:https://samaritains-ecublens.ch/agenda/secouriste-niveau-2-ias-partie-2-2/
LOCATION:Local Samaritains\, Samaritains - Section d'Ecublens\, Route du Bois 6\, 1024 Ecublens\, Suisse
CATEGORIES:Cours secouriste niveau 2 IAS
ATTACH;FMTTYPE=image/png:https://samaritains-ecublens.ch/wp-content/uploads/2023/08/Badge_Level2-e1693418308309.png
END:VEVENT
BEGIN:VEVENT
DTSTART;TZID=Europe/Zurich:20240307T160000
DTEND;TZID=Europe/Zurich:20240307T193000
DTSTAMP:20260424T231004
CREATED:20231015T074837Z
LAST-MODIFIED:20231101T200710Z
UID:15721-1709827200-1709839800@samaritains-ecublens.ch
SUMMARY:Don du sang
DESCRIPTION:Inscription
URL:https://samaritains-ecublens.ch/agenda/don-du-sang-3/
LOCATION:Grande salle du Motty\, Grande salle du Motty Place du Motty 4\, 1024 Ecublens\, Suisse
CATEGORIES:Don du sang
ATTACH;FMTTYPE=image/webp:https://samaritains-ecublens.ch/wp-content/uploads/2023/05/don-du-sang-TITRE-870x600-1.webp
END:VEVENT
BEGIN:VEVENT
DTSTART;TZID=Europe/Zurich:20240309T080000
DTEND;TZID=Europe/Zurich:20240309T163000
DTSTAMP:20260424T231004
CREATED:20231108T194622Z
LAST-MODIFIED:20231108T194634Z
UID:15911-1709971200-1710001800@samaritains-ecublens.ch
SUMMARY:Secouriste niveau 2 IAS (partie 3)
DESCRIPTION:Inscription
URL:https://samaritains-ecublens.ch/agenda/secouriste-niveau-2-ias-partie-3-2/
LOCATION:Local Samaritains\, Samaritains - Section d'Ecublens\, Route du Bois 6\, 1024 Ecublens\, Suisse
CATEGORIES:Cours secouriste niveau 2 IAS
ATTACH;FMTTYPE=image/png:https://samaritains-ecublens.ch/wp-content/uploads/2023/08/Badge_Level2-e1693418308309.png
END:VEVENT
BEGIN:VEVENT
DTSTART;TZID=Europe/Zurich:20240311T200000
DTEND;TZID=Europe/Zurich:20240311T220000
DTSTAMP:20260424T231004
CREATED:20231111T103408Z
LAST-MODIFIED:20231112T082050Z
UID:15977-1710187200-1710194400@samaritains-ecublens.ch
SUMMARY:Exercice de section n° 3
DESCRIPTION:Les thèmes de la soirée seront les mises en situations de divers malaises \n\n\n\n\n\n\n\n\nInscription à l’exercice
URL:https://samaritains-ecublens.ch/agenda/exercice-de-section-n-3/
LOCATION:Local Samaritains\, Samaritains - Section d'Ecublens\, Route du Bois 6\, 1024 Ecublens\, Suisse
CATEGORIES:Exercice de section,Formation continue,La section
ATTACH;FMTTYPE=image/png:https://samaritains-ecublens.ch/wp-content/uploads/2018/05/9C410A3E-1545-4809-8DDF-4BFD81C71EC0-e1525206890613.png
END:VEVENT
END:VCALENDAR