BEGIN:VCALENDAR
VERSION:2.0
PRODID:-//Samaritains - Section d&#039;Ecublens - ECPv6.15.20//NONSGML v1.0//EN
CALSCALE:GREGORIAN
METHOD:PUBLISH
X-WR-CALNAME:Samaritains - Section d&#039;Ecublens
X-ORIGINAL-URL:https://samaritains-ecublens.ch
X-WR-CALDESC:Évènements pour Samaritains - Section d&#039;Ecublens
REFRESH-INTERVAL;VALUE=DURATION:PT1H
X-Robots-Tag:noindex
X-PUBLISHED-TTL:PT1H
BEGIN:VTIMEZONE
TZID:Europe/Zurich
BEGIN:DAYLIGHT
TZOFFSETFROM:+0100
TZOFFSETTO:+0200
TZNAME:CEST
DTSTART:20230326T010000
END:DAYLIGHT
BEGIN:STANDARD
TZOFFSETFROM:+0200
TZOFFSETTO:+0100
TZNAME:CET
DTSTART:20231029T010000
END:STANDARD
BEGIN:DAYLIGHT
TZOFFSETFROM:+0100
TZOFFSETTO:+0200
TZNAME:CEST
DTSTART:20240331T010000
END:DAYLIGHT
BEGIN:STANDARD
TZOFFSETFROM:+0200
TZOFFSETTO:+0100
TZNAME:CET
DTSTART:20241027T010000
END:STANDARD
BEGIN:DAYLIGHT
TZOFFSETFROM:+0100
TZOFFSETTO:+0200
TZNAME:CEST
DTSTART:20250330T010000
END:DAYLIGHT
BEGIN:STANDARD
TZOFFSETFROM:+0200
TZOFFSETTO:+0100
TZNAME:CET
DTSTART:20251026T010000
END:STANDARD
END:VTIMEZONE
BEGIN:VEVENT
DTSTART;TZID=Europe/Zurich:20240202T200000
DTEND;TZID=Europe/Zurich:20240202T220000
DTSTAMP:20260425T005249
CREATED:20231111T104317Z
LAST-MODIFIED:20231111T104441Z
UID:15981-1706904000-1706911200@samaritains-ecublens.ch
SUMMARY:Assemblée générale
DESCRIPTION:Inscription à l’AG
URL:https://samaritains-ecublens.ch/agenda/assemblee-generale/
LOCATION:Local Samaritains\, Samaritains - Section d'Ecublens\, Route du Bois 6\, 1024 Ecublens\, Suisse
CATEGORIES:Assemblée générale,La section
ATTACH;FMTTYPE=image/jpeg:https://samaritains-ecublens.ch/wp-content/uploads/2023/11/5d06438f64c4f_assembleegenerale-1.jpg
END:VEVENT
BEGIN:VEVENT
DTSTART;TZID=Europe/Zurich:20240203T080000
DTEND;TZID=Europe/Zurich:20240203T124500
DTSTAMP:20260425T005249
CREATED:20231109T195039Z
LAST-MODIFIED:20231109T195559Z
UID:15956-1706947200-1706964300@samaritains-ecublens.ch
SUMMARY:Urgences chez les Petits Enfants (partie1)
DESCRIPTION:Inscription
URL:https://samaritains-ecublens.ch/agenda/urgence-chez-les-petit-enfants-partie1/
LOCATION:Local Samaritains\, Samaritains - Section d'Ecublens\, Route du Bois 6\, 1024 Ecublens\, Suisse
CATEGORIES:UPE
END:VEVENT
BEGIN:VEVENT
DTSTART;TZID=Europe/Zurich:20240210T080000
DTEND;TZID=Europe/Zurich:20240210T124500
DTSTAMP:20260425T005250
CREATED:20231109T195505Z
LAST-MODIFIED:20231109T195633Z
UID:15959-1707552000-1707569100@samaritains-ecublens.ch
SUMMARY:Urgences chez les Petits Enfants (partie 2)
DESCRIPTION:Inscription
URL:https://samaritains-ecublens.ch/agenda/urgences-chez-les-petits-enfants/
LOCATION:Local Samaritains\, Samaritains - Section d'Ecublens\, Route du Bois 6\, 1024 Ecublens\, Suisse
CATEGORIES:UPE
END:VEVENT
BEGIN:VEVENT
DTSTART;TZID=Europe/Zurich:20240222T200000
DTEND;TZID=Europe/Zurich:20240222T220000
DTSTAMP:20260425T005250
CREATED:20231109T205906Z
LAST-MODIFIED:20231109T205959Z
UID:15971-1708632000-1708639200@samaritains-ecublens.ch
SUMMARY:Exercice de section n°2
DESCRIPTION:Les thèmes de la soirée seront les entorses\, bandages\, RICE\, etc  \n\n\n\n\n\n\n\n\nInscription à l’exercice
URL:https://samaritains-ecublens.ch/agenda/exercice-de-section-n2-2/
LOCATION:Local Samaritains\, Samaritains - Section d'Ecublens\, Route du Bois 6\, 1024 Ecublens\, Suisse
CATEGORIES:Exercice de section,Formation continue,La section
ATTACH;FMTTYPE=image/png:https://samaritains-ecublens.ch/wp-content/uploads/2018/05/9C410A3E-1545-4809-8DDF-4BFD81C71EC0-e1525206890613.png
END:VEVENT
BEGIN:VEVENT
DTSTART;TZID=Europe/Zurich:20240224T080000
DTEND;TZID=Europe/Zurich:20240224T163000
DTSTAMP:20260425T005250
CREATED:20231108T192954Z
LAST-MODIFIED:20231108T195235Z
UID:15903-1708761600-1708792200@samaritains-ecublens.ch
SUMMARY:Secouriste Niveau 2 IAS (partie 1)
DESCRIPTION:Inscription
URL:https://samaritains-ecublens.ch/agenda/secouriste-niveau-2-ias-partie-1-2/
LOCATION:Local Samaritains\, Samaritains - Section d'Ecublens\, Route du Bois 6\, 1024 Ecublens\, Suisse
CATEGORIES:Cours secouriste niveau 2 IAS
ATTACH;FMTTYPE=image/png:https://samaritains-ecublens.ch/wp-content/uploads/2023/08/Badge_Level2-e1693418308309.png
END:VEVENT
END:VCALENDAR