BEGIN:VCALENDAR
VERSION:2.0
PRODID:-//Samaritains - Section d&#039;Ecublens - ECPv6.15.20//NONSGML v1.0//EN
CALSCALE:GREGORIAN
METHOD:PUBLISH
X-WR-CALNAME:Samaritains - Section d&#039;Ecublens
X-ORIGINAL-URL:https://samaritains-ecublens.ch
X-WR-CALDESC:Évènements pour Samaritains - Section d&#039;Ecublens
REFRESH-INTERVAL;VALUE=DURATION:PT1H
X-Robots-Tag:noindex
X-PUBLISHED-TTL:PT1H
BEGIN:VTIMEZONE
TZID:Europe/Zurich
BEGIN:DAYLIGHT
TZOFFSETFROM:+0100
TZOFFSETTO:+0200
TZNAME:CEST
DTSTART:20230326T010000
END:DAYLIGHT
BEGIN:STANDARD
TZOFFSETFROM:+0200
TZOFFSETTO:+0100
TZNAME:CET
DTSTART:20231029T010000
END:STANDARD
BEGIN:DAYLIGHT
TZOFFSETFROM:+0100
TZOFFSETTO:+0200
TZNAME:CEST
DTSTART:20240331T010000
END:DAYLIGHT
BEGIN:STANDARD
TZOFFSETFROM:+0200
TZOFFSETTO:+0100
TZNAME:CET
DTSTART:20241027T010000
END:STANDARD
BEGIN:DAYLIGHT
TZOFFSETFROM:+0100
TZOFFSETTO:+0200
TZNAME:CEST
DTSTART:20250330T010000
END:DAYLIGHT
BEGIN:STANDARD
TZOFFSETFROM:+0200
TZOFFSETTO:+0100
TZNAME:CET
DTSTART:20251026T010000
END:STANDARD
END:VTIMEZONE
BEGIN:VEVENT
DTSTART;TZID=Europe/Zurich:20240106T080000
DTEND;TZID=Europe/Zurich:20240106T163000
DTSTAMP:20260425T023917
CREATED:20231108T184359Z
LAST-MODIFIED:20231108T184612Z
UID:15886-1704528000-1704558600@samaritains-ecublens.ch
SUMMARY:Secouriste niveau 1 IAS (partie 1)
DESCRIPTION:Inscription
URL:https://samaritains-ecublens.ch/agenda/secouriste-niveau-1-ias-partie-1-4/
LOCATION:Local Samaritains\, Samaritains - Section d'Ecublens\, Route du Bois 6\, 1024 Ecublens\, Suisse
CATEGORIES:Cours secouriste niveau 1 IAS
ATTACH;FMTTYPE=image/png:https://samaritains-ecublens.ch/wp-content/uploads/2023/08/Badge_Level1-1-e1693418228221.png
END:VEVENT
BEGIN:VEVENT
DTSTART;TZID=Europe/Zurich:20240113T080000
DTEND;TZID=Europe/Zurich:20240113T163000
DTSTAMP:20260425T023917
CREATED:20231108T185219Z
LAST-MODIFIED:20231108T195028Z
UID:15890-1705132800-1705163400@samaritains-ecublens.ch
SUMMARY:Secouriste niveau 1 IAS (partie 2)
DESCRIPTION:Inscription
URL:https://samaritains-ecublens.ch/agenda/secouriste-niveau-1-ias-partie-2-4/
LOCATION:Local Samaritains\, Samaritains - Section d'Ecublens\, Route du Bois 6\, 1024 Ecublens\, Suisse
CATEGORIES:Cours secouriste niveau 1 IAS
ATTACH;FMTTYPE=image/png:https://samaritains-ecublens.ch/wp-content/uploads/2023/08/Badge_Level1-1-e1693418228221.png
END:VEVENT
BEGIN:VEVENT
DTSTART;TZID=Europe/Zurich:20240130T200000
DTEND;TZID=Europe/Zurich:20240130T220000
DTSTAMP:20260425T023917
CREATED:20231108T204441Z
LAST-MODIFIED:20231109T210056Z
UID:15935-1706644800-1706652000@samaritains-ecublens.ch
SUMMARY:Exercice de section n°1
DESCRIPTION:Les thèmes de la soirée seront le refresh des schéma XABCDE / AVPU \n\n\n\n\n\n\n\n\nInscription à l’exercice
URL:https://samaritains-ecublens.ch/agenda/exercice-de-section-n1-2/
LOCATION:Local Samaritains\, Samaritains - Section d'Ecublens\, Route du Bois 6\, 1024 Ecublens\, Suisse
CATEGORIES:Exercice de section,Formation continue,La section
ATTACH;FMTTYPE=image/png:https://samaritains-ecublens.ch/wp-content/uploads/2018/05/9C410A3E-1545-4809-8DDF-4BFD81C71EC0-e1525206890613.png
END:VEVENT
END:VCALENDAR