BEGIN:VCALENDAR
VERSION:2.0
PRODID:-//Samaritains - Section d&#039;Ecublens - ECPv6.15.20//NONSGML v1.0//EN
CALSCALE:GREGORIAN
METHOD:PUBLISH
X-ORIGINAL-URL:https://samaritains-ecublens.ch
X-WR-CALDESC:Évènements pour Samaritains - Section d&#039;Ecublens
REFRESH-INTERVAL;VALUE=DURATION:PT1H
X-Robots-Tag:noindex
X-PUBLISHED-TTL:PT1H
BEGIN:VTIMEZONE
TZID:Europe/Zurich
BEGIN:DAYLIGHT
TZOFFSETFROM:+0100
TZOFFSETTO:+0200
TZNAME:CEST
DTSTART:20250330T010000
END:DAYLIGHT
BEGIN:STANDARD
TZOFFSETFROM:+0200
TZOFFSETTO:+0100
TZNAME:CET
DTSTART:20251026T010000
END:STANDARD
BEGIN:DAYLIGHT
TZOFFSETFROM:+0100
TZOFFSETTO:+0200
TZNAME:CEST
DTSTART:20260329T010000
END:DAYLIGHT
BEGIN:STANDARD
TZOFFSETFROM:+0200
TZOFFSETTO:+0100
TZNAME:CET
DTSTART:20261025T010000
END:STANDARD
BEGIN:DAYLIGHT
TZOFFSETFROM:+0100
TZOFFSETTO:+0200
TZNAME:CEST
DTSTART:20270328T010000
END:DAYLIGHT
BEGIN:STANDARD
TZOFFSETFROM:+0200
TZOFFSETTO:+0100
TZNAME:CET
DTSTART:20271031T010000
END:STANDARD
END:VTIMEZONE
BEGIN:VEVENT
DTSTART;TZID=Europe/Zurich:20261130T153000
DTEND;TZID=Europe/Zurich:20261130T203000
DTSTAMP:20260421T191711
CREATED:20251223T203227Z
LAST-MODIFIED:20251223T203229Z
UID:17506-1796052600-1796070600@samaritains-ecublens.ch
SUMMARY:Don du sang
DESCRIPTION:Inscription
URL:https://samaritains-ecublens.ch/agenda/don-du-sang-14/
LOCATION:Grande salle du Motty\, Grande salle du Motty Place du Motty 4\, 1024 Ecublens\, Suisse
CATEGORIES:Don du sang
ATTACH;FMTTYPE=image/webp:https://samaritains-ecublens.ch/wp-content/uploads/2023/05/don-du-sang-TITRE-870x600-1.webp
END:VEVENT
END:VCALENDAR