BEGIN:VCALENDAR
VERSION:2.0
PRODID:-//Samaritains - Section d&#039;Ecublens - ECPv6.15.20//NONSGML v1.0//EN
CALSCALE:GREGORIAN
METHOD:PUBLISH
X-ORIGINAL-URL:https://samaritains-ecublens.ch
X-WR-CALDESC:Évènements pour Samaritains - Section d&#039;Ecublens
REFRESH-INTERVAL;VALUE=DURATION:PT1H
X-Robots-Tag:noindex
X-PUBLISHED-TTL:PT1H
BEGIN:VTIMEZONE
TZID:Europe/Zurich
BEGIN:DAYLIGHT
TZOFFSETFROM:+0100
TZOFFSETTO:+0200
TZNAME:CEST
DTSTART:20230326T010000
END:DAYLIGHT
BEGIN:STANDARD
TZOFFSETFROM:+0200
TZOFFSETTO:+0100
TZNAME:CET
DTSTART:20231029T010000
END:STANDARD
BEGIN:DAYLIGHT
TZOFFSETFROM:+0100
TZOFFSETTO:+0200
TZNAME:CEST
DTSTART:20240331T010000
END:DAYLIGHT
BEGIN:STANDARD
TZOFFSETFROM:+0200
TZOFFSETTO:+0100
TZNAME:CET
DTSTART:20241027T010000
END:STANDARD
BEGIN:DAYLIGHT
TZOFFSETFROM:+0100
TZOFFSETTO:+0200
TZNAME:CEST
DTSTART:20250330T010000
END:DAYLIGHT
BEGIN:STANDARD
TZOFFSETFROM:+0200
TZOFFSETTO:+0100
TZNAME:CET
DTSTART:20251026T010000
END:STANDARD
END:VTIMEZONE
BEGIN:VEVENT
DTSTART;TZID=Europe/Zurich:20240910T200000
DTEND;TZID=Europe/Zurich:20240910T220000
DTSTAMP:20260422T021754
CREATED:20231115T102315Z
LAST-MODIFIED:20231115T113705Z
UID:16017-1725998400-1726005600@samaritains-ecublens.ch
SUMMARY:Exercice de section n° 6
DESCRIPTION:Les thèmes de la soirée seront les états de chocs et l’indice de choc \n\n\n\n\n\n\n\n\nInscription à l’exercice
URL:https://samaritains-ecublens.ch/agenda/16017/
LOCATION:1024 Ecublens
CATEGORIES:Exercice de section,Formation continue,La section
ATTACH;FMTTYPE=image/png:https://samaritains-ecublens.ch/wp-content/uploads/2018/05/9C410A3E-1545-4809-8DDF-4BFD81C71EC0-e1525206890613.png
END:VEVENT
BEGIN:VEVENT
DTSTART;TZID=Europe/Zurich:20240920T170000
DTEND;TZID=Europe/Zurich:20240920T210000
DTSTAMP:20260422T021754
CREATED:20240508T150801Z
LAST-MODIFIED:20240713T145330Z
UID:16391-1726851600-1726866000@samaritains-ecublens.ch
SUMMARY:UPE (partie 1)
DESCRIPTION:Inscription
URL:https://samaritains-ecublens.ch/agenda/upe-partie-1/
LOCATION:Local section d’Ecublens\, Samaritains - Section d'Ecublens\, Ch. de la Forêt 14C\, 1024 Ecublens\, Suisse
CATEGORIES:BLS-AED,La section
END:VEVENT
END:VCALENDAR