BEGIN:VCALENDAR
VERSION:2.0
PRODID:-//Samaritains - Section d&#039;Ecublens - ECPv6.15.20//NONSGML v1.0//EN
CALSCALE:GREGORIAN
METHOD:PUBLISH
X-WR-CALNAME:Samaritains - Section d&#039;Ecublens
X-ORIGINAL-URL:https://samaritains-ecublens.ch
X-WR-CALDESC:Évènements pour Samaritains - Section d&#039;Ecublens
REFRESH-INTERVAL;VALUE=DURATION:PT1H
X-Robots-Tag:noindex
X-PUBLISHED-TTL:PT1H
BEGIN:VTIMEZONE
TZID:Europe/Zurich
BEGIN:DAYLIGHT
TZOFFSETFROM:+0100
TZOFFSETTO:+0200
TZNAME:CEST
DTSTART:20230326T010000
END:DAYLIGHT
BEGIN:STANDARD
TZOFFSETFROM:+0200
TZOFFSETTO:+0100
TZNAME:CET
DTSTART:20231029T010000
END:STANDARD
BEGIN:DAYLIGHT
TZOFFSETFROM:+0100
TZOFFSETTO:+0200
TZNAME:CEST
DTSTART:20240331T010000
END:DAYLIGHT
BEGIN:STANDARD
TZOFFSETFROM:+0200
TZOFFSETTO:+0100
TZNAME:CET
DTSTART:20241027T010000
END:STANDARD
BEGIN:DAYLIGHT
TZOFFSETFROM:+0100
TZOFFSETTO:+0200
TZNAME:CEST
DTSTART:20250330T010000
END:DAYLIGHT
BEGIN:STANDARD
TZOFFSETFROM:+0200
TZOFFSETTO:+0100
TZNAME:CET
DTSTART:20251026T010000
END:STANDARD
END:VTIMEZONE
BEGIN:VEVENT
DTSTART;TZID=Europe/Zurich:20240706T080000
DTEND;TZID=Europe/Zurich:20240706T130000
DTSTAMP:20260424T105231
CREATED:20240508T143609Z
LAST-MODIFIED:20240508T144516Z
UID:16375-1720252800-1720270800@samaritains-ecublens.ch
SUMMARY:Premier secours "permis"(partie 1)
DESCRIPTION:Inscription
URL:https://samaritains-ecublens.ch/agenda/premier-secours-permispartie-1/
LOCATION:Local section d’Ecublens\, Samaritains - Section d'Ecublens\, Ch. de la Forêt 14C\, 1024 Ecublens\, Suisse
CATEGORIES:La section,premier secours
END:VEVENT
BEGIN:VEVENT
DTSTART;TZID=Europe/Zurich:20240713T080000
DTEND;TZID=Europe/Zurich:20240713T130000
DTSTAMP:20260424T105231
CREATED:20240508T144159Z
LAST-MODIFIED:20240508T144854Z
UID:16377-1720857600-1720875600@samaritains-ecublens.ch
SUMMARY:Premier secours "permis" (partie 2)
DESCRIPTION:Inscription
URL:https://samaritains-ecublens.ch/agenda/premier-secours-permis-partie-2/
LOCATION:Local section d’Ecublens\, Samaritains - Section d'Ecublens\, Ch. de la Forêt 14C\, 1024 Ecublens\, Suisse
CATEGORIES:La section,premier secours
END:VEVENT
END:VCALENDAR