BEGIN:VCALENDAR
VERSION:2.0
PRODID:-//Samaritains - Section d&#039;Ecublens - ECPv6.15.20//NONSGML v1.0//EN
CALSCALE:GREGORIAN
METHOD:PUBLISH
X-ORIGINAL-URL:https://samaritains-ecublens.ch
X-WR-CALDESC:Évènements pour Samaritains - Section d&#039;Ecublens
REFRESH-INTERVAL;VALUE=DURATION:PT1H
X-Robots-Tag:noindex
X-PUBLISHED-TTL:PT1H
BEGIN:VTIMEZONE
TZID:Europe/Zurich
BEGIN:DAYLIGHT
TZOFFSETFROM:+0100
TZOFFSETTO:+0200
TZNAME:CEST
DTSTART:20230326T010000
END:DAYLIGHT
BEGIN:STANDARD
TZOFFSETFROM:+0200
TZOFFSETTO:+0100
TZNAME:CET
DTSTART:20231029T010000
END:STANDARD
BEGIN:DAYLIGHT
TZOFFSETFROM:+0100
TZOFFSETTO:+0200
TZNAME:CEST
DTSTART:20240331T010000
END:DAYLIGHT
BEGIN:STANDARD
TZOFFSETFROM:+0200
TZOFFSETTO:+0100
TZNAME:CET
DTSTART:20241027T010000
END:STANDARD
BEGIN:DAYLIGHT
TZOFFSETFROM:+0100
TZOFFSETTO:+0200
TZNAME:CEST
DTSTART:20250330T010000
END:DAYLIGHT
BEGIN:STANDARD
TZOFFSETFROM:+0200
TZOFFSETTO:+0100
TZNAME:CET
DTSTART:20251026T010000
END:STANDARD
END:VTIMEZONE
BEGIN:VEVENT
DTSTART;TZID=Europe/Zurich:20240508T080000
DTEND;TZID=Europe/Zurich:20240508T170000
DTSTAMP:20260424T140854
CREATED:20240508T152322Z
LAST-MODIFIED:20240508T152538Z
UID:16399-1715155200-1715187600@samaritains-ecublens.ch
SUMMARY:Secouriste niveau 2 IAS (partie 1)
DESCRIPTION:Inscription
URL:https://samaritains-ecublens.ch/agenda/secouriste-niveau-2-ias-partie-1-3/
LOCATION:Local section d’Ecublens\, Samaritains - Section d'Ecublens\, Ch. de la Forêt 14C\, 1024 Ecublens\, Suisse
CATEGORIES:Cours secouriste niveau 2 IAS,La section
ATTACH;FMTTYPE=image/png:https://samaritains-ecublens.ch/wp-content/uploads/2023/08/Badge_Level2-e1693418308309.png
END:VEVENT
BEGIN:VEVENT
DTSTART;TZID=Europe/Zurich:20240514T200000
DTEND;TZID=Europe/Zurich:20240514T220000
DTSTAMP:20260424T140854
CREATED:20231112T081847Z
LAST-MODIFIED:20231112T081937Z
UID:15999-1715716800-1715724000@samaritains-ecublens.ch
SUMMARY:Exercice de section n° 5
DESCRIPTION:Les thèmes de la soirée seront les mises en situations\, AVC – Infarctus – Hémorragie \n\n\n\n\n\n\n\n\nInscription à l’exercice
URL:https://samaritains-ecublens.ch/agenda/exercice-de-section-n-5/
LOCATION:Local Samaritains\, Samaritains - Section d'Ecublens\, Route du Bois 6\, 1024 Ecublens\, Suisse
CATEGORIES:Exercice de section,Formation continue,La section
ATTACH;FMTTYPE=image/png:https://samaritains-ecublens.ch/wp-content/uploads/2018/05/9C410A3E-1545-4809-8DDF-4BFD81C71EC0-e1525206890613.png
END:VEVENT
END:VCALENDAR